BEGIN:VCALENDAR
VERSION:2.0
PRODID:concerti//https://www.concerti.de
CALSCALE:GREGORIAN
BEGIN:VTIMEZONE
TZID:Europe/Berlin
X-LIC-LOCATION:Europe/Berlin
BEGIN:DAYLIGHT
TZOFFSETFROM:+0100
TZOFFSETTO:+0200
TZNAME:CEST
DTSTART:19700329T020000
RRULE:FREQ=YEARLY;BYMONTH=3;BYDAY=-1SU
END:DAYLIGHT
BEGIN:STANDARD
TZOFFSETFROM:+0200
TZOFFSETTO:+0100
TZNAME:CET
DTSTART:19701025T030000
RRULE:FREQ=YEARLY;BYMONTH=10;BYDAY=-1SU
END:STANDARD
END:VTIMEZONE
BEGIN:VEVENT
UID:56569c144b14e2ab1cbc198c412dded3
SUMMARY:Jared Redmond (Klavier) - Intersonanzen – Brandenburgisches Fest der Neuen Musik
URL:https://www.concerti.de/termine/jared-redmond-klavier-palais-lichtenau-893697/
DTSTART;TZID=Europe/Berlin:20260605T210000
DTEND;TZID=Europe/Berlin:20260605T230000
DESCRIPTION:Interpreten: Jared Redmond (Klavier) \nProgramm: Emeliantseva: Sieben Klavierstücke\, Kisters: Woge (UA)\, Ullmann: Impromptus und Interationen (Auszüge)\, Freidel: Thermosphere and Exosphere (UA)\, Jolas: Piéce Pour\, Feldman: Palais de Marie\, Redmond: Doth (EA) \nhttps://www.concerti.de/termine/jared-redmond-klavier-palais-lichtenau-893697/
LOCATION:Palais Lichtenau Potsdam\, Kurfürstenstraße 40\, 14467 Potsdam
END:VEVENT
END:VCALENDAR