BEGIN:VCALENDAR
VERSION:2.0
PRODID:concerti//https://www.concerti.de
CALSCALE:GREGORIAN
BEGIN:VTIMEZONE
TZID:Europe/Berlin
X-LIC-LOCATION:Europe/Berlin
BEGIN:DAYLIGHT
TZOFFSETFROM:+0100
TZOFFSETTO:+0200
TZNAME:CEST
DTSTART:19700329T020000
RRULE:FREQ=YEARLY;BYMONTH=3;BYDAY=-1SU
END:DAYLIGHT
BEGIN:STANDARD
TZOFFSETFROM:+0200
TZOFFSETTO:+0100
TZNAME:CET
DTSTART:19701025T030000
RRULE:FREQ=YEARLY;BYMONTH=10;BYDAY=-1SU
END:STANDARD
END:VTIMEZONE
BEGIN:VEVENT
UID:47abe702e364a27e4feec068dd3f53a8
SUMMARY:Ensemble Aventure - Intersonanzen – Brandenburgisches Fest der Neuen Musik
URL:https://www.concerti.de/termine/ensemble-aventure-palais-lichtenau-893691/
DTSTART;TZID=Europe/Berlin:20260606T103000
DTEND;TZID=Europe/Berlin:20260606T123000
DESCRIPTION:Interpreten: Ensemble Aventure \nProgramm: Gerwin: BiPol XI – Klangpanorama (UA)\, Djordjević: Pomen III\, Hoyer: TrioTrio\, Sciarrino: Tre duetti con l’eco\, Cleare: eyam iii (if it’s living somewhere outside of you)\, Romitelli: Domeniche alla periferia dell’impero Seconda domenica – Hommage à Gérard Grisey\, Seyedi: A sun of one’s own\, Lienenkämper: click! goes the kaleidoscope (UA) \nhttps://www.concerti.de/termine/ensemble-aventure-palais-lichtenau-893691/
LOCATION:Stadtmuseum\, Eberswalde
END:VEVENT
END:VCALENDAR