BEGIN:VCALENDAR
VERSION:2.0
PRODID:concerti//https://www.concerti.de
CALSCALE:GREGORIAN
BEGIN:VTIMEZONE
TZID:Europe/Berlin
X-LIC-LOCATION:Europe/Berlin
BEGIN:DAYLIGHT
TZOFFSETFROM:+0100
TZOFFSETTO:+0200
TZNAME:CEST
DTSTART:19700329T020000
RRULE:FREQ=YEARLY;BYMONTH=3;BYDAY=-1SU
END:DAYLIGHT
BEGIN:STANDARD
TZOFFSETFROM:+0200
TZOFFSETTO:+0100
TZNAME:CET
DTSTART:19701025T030000
RRULE:FREQ=YEARLY;BYMONTH=10;BYDAY=-1SU
END:STANDARD
END:VTIMEZONE
BEGIN:VEVENT
UID:7171800cdcf2e1ef2ea285546d74ca93
SUMMARY:Bauer (Kontrabass), Hanna Hartman (Klangobjekte) - Intersonanzen – Brandenburgisches Fest der Neuen Musik
URL:https://www.concerti.de/termine/bauer-kontrabass-hanna-hartman-klangobjekte-893702/
DTSTART;TZID=Europe/Berlin:20260606T170000
DTEND;TZID=Europe/Berlin:20260606T190000
DESCRIPTION:Interpreten: Bauer (Kontrabass)\, Hanna Hartman (Klangobjekte) \nProgramm: Bauer: Livre pour contrebasse 1-10\, Hartman: Octopus Dreaming \nhttps://www.concerti.de/termine/bauer-kontrabass-hanna-hartman-klangobjekte-893702/
LOCATION:museum FLUXUS+\, Potsdam
END:VEVENT
END:VCALENDAR