BEGIN:VCALENDAR
VERSION:2.0
PRODID:concerti//https://www.concerti.de
CALSCALE:GREGORIAN
BEGIN:VTIMEZONE
TZID:Europe/Berlin
X-LIC-LOCATION:Europe/Berlin
BEGIN:DAYLIGHT
TZOFFSETFROM:+0100
TZOFFSETTO:+0200
TZNAME:CEST
DTSTART:19700329T020000
RRULE:FREQ=YEARLY;BYMONTH=3;BYDAY=-1SU
END:DAYLIGHT
BEGIN:STANDARD
TZOFFSETFROM:+0200
TZOFFSETTO:+0100
TZNAME:CET
DTSTART:19701025T030000
RRULE:FREQ=YEARLY;BYMONTH=10;BYDAY=-1SU
END:STANDARD
END:VTIMEZONE
BEGIN:VEVENT
UID:67ddf941fee232d9bd0f298ff57d15ee
SUMMARY:Duo f:LAUT-e - Intersonanzen – Brandenburgisches Fest der Neuen Musik
URL:https://www.concerti.de/termine/duo-flaut-e-893705/
DTSTART;TZID=Europe/Berlin:20260606T183000
DTEND;TZID=Europe/Berlin:20260606T203000
DESCRIPTION:Interpreten: Duo f:LAUT-e \nProgramm: Kowalczuk: ru-ur\, Daske: Steinwind\, Mex: Weather Report for flutes and loop-machine\, Vogel: Wind Talk\, Schürmann/Karsten: Neues Werk (UA)\, Oh: Ricercar \nhttps://www.concerti.de/termine/duo-flaut-e-893705/
LOCATION:museum FLUXUS+\, Potsdam
END:VEVENT
END:VCALENDAR