BEGIN:VCALENDAR
VERSION:2.0
PRODID:concerti//https://www.concerti.de
CALSCALE:GREGORIAN
BEGIN:VTIMEZONE
TZID:Europe/Berlin
X-LIC-LOCATION:Europe/Berlin
BEGIN:DAYLIGHT
TZOFFSETFROM:+0100
TZOFFSETTO:+0200
TZNAME:CEST
DTSTART:19700329T020000
RRULE:FREQ=YEARLY;BYMONTH=3;BYDAY=-1SU
END:DAYLIGHT
BEGIN:STANDARD
TZOFFSETFROM:+0200
TZOFFSETTO:+0100
TZNAME:CET
DTSTART:19701025T030000
RRULE:FREQ=YEARLY;BYMONTH=10;BYDAY=-1SU
END:STANDARD
END:VTIMEZONE
BEGIN:VEVENT
UID:6a6b57fa119cadc2019dcd8ed86db38d
SUMMARY:Ensemble Quillo - Intersonanzen – Brandenburgisches Fest der Neuen Musik
URL:https://www.concerti.de/termine/ensemble-quillo-893708/
DTSTART;TZID=Europe/Berlin:20260606T193000
DTEND;TZID=Europe/Berlin:20260606T213000
DESCRIPTION:Interpreten: Ensemble Quillo \nProgramm: Nowitz: Orpheus Meditationen\, Wettstein strang (UA)\, Willers: Zusammen Halt (UA)\, Hildebrandt: 3.2 (UA)\, Agat-Nielsen: crossing lines\, Gubaidulina: Silenzio \nhttps://www.concerti.de/termine/ensemble-quillo-893708/
LOCATION:museum FLUXUS+\, Potsdam
END:VEVENT
END:VCALENDAR