BEGIN:VCALENDAR
VERSION:2.0
PRODID:concerti//https://www.concerti.de
CALSCALE:GREGORIAN
BEGIN:VTIMEZONE
TZID:Europe/Berlin
X-LIC-LOCATION:Europe/Berlin
BEGIN:DAYLIGHT
TZOFFSETFROM:+0100
TZOFFSETTO:+0200
TZNAME:CEST
DTSTART:19700329T020000
RRULE:FREQ=YEARLY;BYMONTH=3;BYDAY=-1SU
END:DAYLIGHT
BEGIN:STANDARD
TZOFFSETFROM:+0200
TZOFFSETTO:+0100
TZNAME:CET
DTSTART:19701025T030000
RRULE:FREQ=YEARLY;BYMONTH=10;BYDAY=-1SU
END:STANDARD
END:VTIMEZONE
BEGIN:VEVENT
UID:777fc8df19b629a35d0efad8ecbd19c9
SUMMARY:Tag der Musikschulen - Intersonanzen – Brandenburgisches Fest der Neuen Musik
URL:https://www.concerti.de/termine/tag-der-musikschulen-893711/
DTSTART;TZID=Europe/Berlin:20260607T153000
DTEND;TZID=Europe/Berlin:20260607T173000
DESCRIPTION:Interpreten: Sinfonietta Sinfonieorchester KMS Potsdam-Mittelmark\,\nInklusionsensemble KMS Potsdam-Mittelmark\, Musikschule Strausberg\, Städtische Musikschule „Johann Sebastian Bach“ Potsdam \nhttps://www.concerti.de/termine/tag-der-musikschulen-893711/
LOCATION:Waschhaus\, Potsdam
END:VEVENT
END:VCALENDAR