BEGIN:VCALENDAR
VERSION:2.0
PRODID:concerti//https://www.concerti.de
CALSCALE:GREGORIAN
BEGIN:VTIMEZONE
TZID:Europe/Berlin
X-LIC-LOCATION:Europe/Berlin
BEGIN:DAYLIGHT
TZOFFSETFROM:+0100
TZOFFSETTO:+0200
TZNAME:CEST
DTSTART:19700329T020000
RRULE:FREQ=YEARLY;BYMONTH=3;BYDAY=-1SU
END:DAYLIGHT
BEGIN:STANDARD
TZOFFSETFROM:+0200
TZOFFSETTO:+0100
TZNAME:CET
DTSTART:19701025T030000
RRULE:FREQ=YEARLY;BYMONTH=10;BYDAY=-1SU
END:STANDARD
END:VTIMEZONE
BEGIN:VEVENT
UID:94fe8bd07106d093b7541e8cc32cb537
SUMMARY:Lieben &amp; Leben
URL:https://www.concerti.de/termine/lieben-leben-theater-kiel-893726/
DTSTART;TZID=Europe/Berlin:20260601T190000
DTEND;TZID=Europe/Berlin:20260601T210000
DESCRIPTION:Interpreten: Julie Caffier (Mezzosopran)\, Moritz Caffier (Klavier) \nProgramm: Schumann: Frauenliebe- und Leben op. 42 & Sechs Gedichte und Requiem\, Mussorgski: Kinderstube \nhttps://www.concerti.de/termine/lieben-leben-theater-kiel-893726/
LOCATION:Theater Kiel\, Rathausplatz 4\, 24103 Kiel
END:VEVENT
END:VCALENDAR