BEGIN:VCALENDAR
VERSION:2.0
PRODID:concerti//https://www.concerti.de
CALSCALE:GREGORIAN
BEGIN:VTIMEZONE
TZID:Europe/Berlin
X-LIC-LOCATION:Europe/Berlin
BEGIN:DAYLIGHT
TZOFFSETFROM:+0100
TZOFFSETTO:+0200
TZNAME:CEST
DTSTART:19700329T020000
RRULE:FREQ=YEARLY;BYMONTH=3;BYDAY=-1SU
END:DAYLIGHT
BEGIN:STANDARD
TZOFFSETFROM:+0200
TZOFFSETTO:+0100
TZNAME:CET
DTSTART:19701025T030000
RRULE:FREQ=YEARLY;BYMONTH=10;BYDAY=-1SU
END:STANDARD
END:VTIMEZONE
BEGIN:VEVENT
UID:0850e6a1b9182d55d8bb66bdb910200e
SUMMARY:Escape Valse &#8211; Ein getanztes Konzert
URL:https://www.concerti.de/termine/escape-valse-ein-getanztes-konzert-kulturkirche-altona-893733/
DTSTART;TZID=Europe/Berlin:20260602T193000
DTEND;TZID=Europe/Berlin:20260602T213000
DESCRIPTION:Interpreten: Lorenz Blaumer (Leitung)\, Juan Kruz Diaz de Garaio Esnaola (Choreografie) \nhttps://www.concerti.de/termine/escape-valse-ein-getanztes-konzert-kulturkirche-altona-893733/
LOCATION:Kulturkirche Altona\, Bei der Johanniskirche 22\, 22767 Hamburg
END:VEVENT
END:VCALENDAR