BEGIN:VCALENDAR
VERSION:2.0
PRODID:concerti//https://www.concerti.de
CALSCALE:GREGORIAN
BEGIN:VTIMEZONE
TZID:Europe/Berlin
X-LIC-LOCATION:Europe/Berlin
BEGIN:DAYLIGHT
TZOFFSETFROM:+0100
TZOFFSETTO:+0200
TZNAME:CEST
DTSTART:19700329T020000
RRULE:FREQ=YEARLY;BYMONTH=3;BYDAY=-1SU
END:DAYLIGHT
BEGIN:STANDARD
TZOFFSETFROM:+0200
TZOFFSETTO:+0100
TZNAME:CET
DTSTART:19701025T030000
RRULE:FREQ=YEARLY;BYMONTH=10;BYDAY=-1SU
END:STANDARD
END:VTIMEZONE
BEGIN:VEVENT
UID:1e485519e310099d753103a74903f91d
SUMMARY:Olga Scheps (Klavier), Neubrandenburger Philharmonie, Patrick Lange (Leitung)
URL:https://www.concerti.de/termine/olga-scheps-klavier-neubrandenburger-philharmonie-patrick-lange-leitung-konzertkirche-neubrandenburg-893747/
DTSTART;TZID=Europe/Berlin:20260604T193000
DTEND;TZID=Europe/Berlin:20260604T213000
DESCRIPTION:Interpreten: Olga Scheps (Klavier)\, Neubrandenburger Philharmonie\, Patrick Lange (Leitung) \nProgramm: Beethoven: Klavierkonzert Nr. 3 c-Moll op. 37\, Schumann: Sinfonie Nr. 4 d-Moll op. 120 \nhttps://www.concerti.de/termine/olga-scheps-klavier-neubrandenburger-philharmonie-patrick-lange-leitung-konzertkirche-neubrandenburg-893747/
LOCATION:Konzertkirche Neubrandenburg\, An der Marienkirche\, 17033 Neubrandenburg
END:VEVENT
END:VCALENDAR