BEGIN:VCALENDAR
VERSION:2.0
PRODID:concerti//https://www.concerti.de
CALSCALE:GREGORIAN
BEGIN:VTIMEZONE
TZID:Europe/Berlin
X-LIC-LOCATION:Europe/Berlin
BEGIN:DAYLIGHT
TZOFFSETFROM:+0100
TZOFFSETTO:+0200
TZNAME:CEST
DTSTART:19700329T020000
RRULE:FREQ=YEARLY;BYMONTH=3;BYDAY=-1SU
END:DAYLIGHT
BEGIN:STANDARD
TZOFFSETFROM:+0200
TZOFFSETTO:+0100
TZNAME:CET
DTSTART:19701025T030000
RRULE:FREQ=YEARLY;BYMONTH=10;BYDAY=-1SU
END:STANDARD
END:VTIMEZONE
BEGIN:VEVENT
UID:7b675f8d444e010793e6bcddf8798605
SUMMARY:Peter-Ronnefeld-Wettbewerb
URL:https://www.concerti.de/termine/peter-ronnefeld-wettbewerb-893755/
DTSTART;TZID=Europe/Berlin:20260606T140000
DTEND;TZID=Europe/Berlin:20260606T160000
DESCRIPTION:Interpreten: Musiker der Musikhochschule Lübeck \nhttps://www.concerti.de/termine/peter-ronnefeld-wettbewerb-893755/
LOCATION:St. Petri\, Kiel
END:VEVENT
END:VCALENDAR