BEGIN:VCALENDAR
VERSION:2.0
PRODID:concerti//https://www.concerti.de
CALSCALE:GREGORIAN
BEGIN:VTIMEZONE
TZID:Europe/Berlin
X-LIC-LOCATION:Europe/Berlin
BEGIN:DAYLIGHT
TZOFFSETFROM:+0100
TZOFFSETTO:+0200
TZNAME:CEST
DTSTART:19700329T020000
RRULE:FREQ=YEARLY;BYMONTH=3;BYDAY=-1SU
END:DAYLIGHT
BEGIN:STANDARD
TZOFFSETFROM:+0200
TZOFFSETTO:+0100
TZNAME:CET
DTSTART:19701025T030000
RRULE:FREQ=YEARLY;BYMONTH=10;BYDAY=-1SU
END:STANDARD
END:VTIMEZONE
BEGIN:VEVENT
UID:fadbd6137deae17eea898592436b252a
SUMMARY:Jugend-Sinfonieorchester Kon.centus, Wolfgang Hasleder (Leitung)
URL:https://www.concerti.de/termine/jugend-sinfonieorchester-kon-centus-wolfgang-hasleder-leitung-landestheater-neustrelitz-893793/
DTSTART;TZID=Europe/Berlin:20260613T180000
DTEND;TZID=Europe/Berlin:20260613T200000
DESCRIPTION:Interpreten: Jugend-Sinfonieorchester Kon.centus\, Wolfgang Hasleder (Leitung) \nProgramm: Weber: Ouvertüre zu „Der Freischütz“\, Beethoven: Klavierkonzert Nr. 3 c-Moll op. 37 u. a. \nhttps://www.concerti.de/termine/jugend-sinfonieorchester-kon-centus-wolfgang-hasleder-leitung-landestheater-neustrelitz-893793/
LOCATION:Landestheater Neustrelitz\, Friedrich-Ludwig-Jahn-Straße 14\, 17235 Neustrelitz
END:VEVENT
END:VCALENDAR