BEGIN:VCALENDAR
VERSION:2.0
PRODID:concerti//https://www.concerti.de
CALSCALE:GREGORIAN
BEGIN:VTIMEZONE
TZID:Europe/Berlin
X-LIC-LOCATION:Europe/Berlin
BEGIN:DAYLIGHT
TZOFFSETFROM:+0100
TZOFFSETTO:+0200
TZNAME:CEST
DTSTART:19700329T020000
RRULE:FREQ=YEARLY;BYMONTH=3;BYDAY=-1SU
END:DAYLIGHT
BEGIN:STANDARD
TZOFFSETFROM:+0200
TZOFFSETTO:+0100
TZNAME:CET
DTSTART:19701025T030000
RRULE:FREQ=YEARLY;BYMONTH=10;BYDAY=-1SU
END:STANDARD
END:VTIMEZONE
BEGIN:VEVENT
UID:e0512d3d58d15818ac7a2644adb27eb5
SUMMARY:{ } - blurred edges – Festival für aktuelle Musik Hamburg
URL:https://www.concerti.de/termine/tonali-saal-893811/
DTSTART;TZID=Europe/Berlin:20260618T200000
DTEND;TZID=Europe/Berlin:20260618T220000
DESCRIPTION:Interpreten: Zacharias Faßhauer (Elektroakustik) \nhttps://www.concerti.de/termine/tonali-saal-893811/
LOCATION:TONALi SAAL\, Kleiner Kielort 3 - 5\, 20144 Hamburg
END:VEVENT
END:VCALENDAR