BEGIN:VCALENDAR
VERSION:2.0
PRODID:concerti//https://www.concerti.de
CALSCALE:GREGORIAN
BEGIN:VTIMEZONE
TZID:Europe/Berlin
X-LIC-LOCATION:Europe/Berlin
BEGIN:DAYLIGHT
TZOFFSETFROM:+0100
TZOFFSETTO:+0200
TZNAME:CEST
DTSTART:19700329T020000
RRULE:FREQ=YEARLY;BYMONTH=3;BYDAY=-1SU
END:DAYLIGHT
BEGIN:STANDARD
TZOFFSETFROM:+0200
TZOFFSETTO:+0100
TZNAME:CET
DTSTART:19701025T030000
RRULE:FREQ=YEARLY;BYMONTH=10;BYDAY=-1SU
END:STANDARD
END:VTIMEZONE
BEGIN:VEVENT
UID:94f51c3ac10f48389e76df11ef6b63b4
SUMMARY:Albrecht: Alice im Wunderland - Familienkonzert
URL:https://www.concerti.de/termine/albrecht-alice-im-wunderland-theater-kiel-893828/
DTSTART;TZID=Europe/Berlin:20260621T140000
DTEND;TZID=Europe/Berlin:20260621T160000
DESCRIPTION:Interpreten: Ballettakademie\, Victoria Lane Green (Choreografie) \nhttps://www.concerti.de/termine/albrecht-alice-im-wunderland-theater-kiel-893828/
LOCATION:Theater Kiel\, Rathausplatz 4\, 24103 Kiel
END:VEVENT
END:VCALENDAR