BEGIN:VCALENDAR
VERSION:2.0
PRODID:concerti//https://www.concerti.de
CALSCALE:GREGORIAN
BEGIN:VTIMEZONE
TZID:Europe/Berlin
X-LIC-LOCATION:Europe/Berlin
BEGIN:DAYLIGHT
TZOFFSETFROM:+0100
TZOFFSETTO:+0200
TZNAME:CEST
DTSTART:19700329T020000
RRULE:FREQ=YEARLY;BYMONTH=3;BYDAY=-1SU
END:DAYLIGHT
BEGIN:STANDARD
TZOFFSETFROM:+0200
TZOFFSETTO:+0100
TZNAME:CET
DTSTART:19701025T030000
RRULE:FREQ=YEARLY;BYMONTH=10;BYDAY=-1SU
END:STANDARD
END:VTIMEZONE
BEGIN:VEVENT
UID:ac6db060084f3336a91c1304ce2ce5ee
SUMMARY:Von Lübeck nach Bergen und zurück
URL:https://www.concerti.de/termine/von-luebeck-nach-bergen-und-zurueck-893857/
DTSTART;TZID=Europe/Berlin:20260628T170000
DTEND;TZID=Europe/Berlin:20260628T190000
DESCRIPTION:Interpreten: Philharmonisches Jugendorchester der Hansestadt Lübeck\, Midtun Skoles Musikkorps\, Nathan Bas (Leitung)\, Marius Fevang Thorstensen (Leitung)\, \nProgramm: Werke von Beethoven\, Tschaikowsky u. a. \nhttps://www.concerti.de/termine/von-luebeck-nach-bergen-und-zurueck-893857/
LOCATION:St. Aegidien\, Lübeck
END:VEVENT
END:VCALENDAR