BEGIN:VCALENDAR
VERSION:2.0
PRODID:concerti//https://www.concerti.de
CALSCALE:GREGORIAN
BEGIN:VTIMEZONE
TZID:Europe/Berlin
X-LIC-LOCATION:Europe/Berlin
BEGIN:DAYLIGHT
TZOFFSETFROM:+0100
TZOFFSETTO:+0200
TZNAME:CEST
DTSTART:19700329T020000
RRULE:FREQ=YEARLY;BYMONTH=3;BYDAY=-1SU
END:DAYLIGHT
BEGIN:STANDARD
TZOFFSETFROM:+0200
TZOFFSETTO:+0100
TZNAME:CET
DTSTART:19701025T030000
RRULE:FREQ=YEARLY;BYMONTH=10;BYDAY=-1SU
END:STANDARD
END:VTIMEZONE
BEGIN:VEVENT
UID:aa160cddc3a0f7703d7d33c110ad1ee0
SUMMARY:Wunderkinder
URL:https://www.concerti.de/termine/wunderkinder-volkstheater-rostock-893861/
DTSTART;TZID=Europe/Berlin:20260628T150000
DTEND;TZID=Europe/Berlin:20260628T170000
DESCRIPTION:Interpreten: Lucia Lucas (Bariton)\,  Jisu Jeon (Fagott)\, Norddeutsche Philharmonie Rostock\, Svetlomir Zlatkov (Leitung)\, Hans-Jürgen Mende (Moderation) \nProgramm: Mozart: Sinfonie Nr. 35 D-Dur KV 385\, Alcandro\, lo confesso – Non so donde viene KV 512 & Fagottkonzert B-Dur KV 191\, Mendelssohn: Ouvertüre & Schauspielmusik zu „Ein Sommernachtstraum“ op. 21 & op. 61 \nhttps://www.concerti.de/termine/wunderkinder-volkstheater-rostock-893861/
LOCATION:Volkstheater Rostock\, Doberaner Straße 135\, 18057 Rostock
END:VEVENT
END:VCALENDAR