BEGIN:VCALENDAR
VERSION:2.0
PRODID:concerti//https://www.concerti.de
CALSCALE:GREGORIAN
BEGIN:VTIMEZONE
TZID:Europe/Berlin
X-LIC-LOCATION:Europe/Berlin
BEGIN:DAYLIGHT
TZOFFSETFROM:+0100
TZOFFSETTO:+0200
TZNAME:CEST
DTSTART:19700329T020000
RRULE:FREQ=YEARLY;BYMONTH=3;BYDAY=-1SU
END:DAYLIGHT
BEGIN:STANDARD
TZOFFSETFROM:+0200
TZOFFSETTO:+0100
TZNAME:CET
DTSTART:19701025T030000
RRULE:FREQ=YEARLY;BYMONTH=10;BYDAY=-1SU
END:STANDARD
END:VTIMEZONE
BEGIN:VEVENT
UID:76ad998d2b4fb9230266461d1d3ebda3
SUMMARY:Sophie Naubert (Sopran), Carlos Johnson (Violine), Joo-Hyun Kang (Violine), Christian Jonkisch (Viola), Eunsoo Na (Viola), Hans-Christian Schwarz (Violoncello), Semin Jeon (Violoncello), Youngho Park (Klavier)
URL:https://www.concerti.de/termine/sophie-naubert-sopran-carlos-johnson-violine-joo-hyun-kang-violine-christian-jonkisch-viola-eunsoo-na-viola-hans-christian-schwarz-violoncello-semin-jeon-violoncello-youngho-park-893869/
DTSTART;TZID=Europe/Berlin:20260630T193000
DTEND;TZID=Europe/Berlin:20260630T213000
DESCRIPTION:Interpreten: Sophie Naubert (Sopran)\, Carlos Johnson (Violine)\, Joo-Hyun Kang (Violine)\, Christian Jonkisch (Viola)\, Eunsoo Na (Viola)\, Hans-Christian Schwarz (Violoncello)\, Semin Jeon (Violoncello)\, Youngho Park (Klavier) \nProgramm: Berg: Sieben frühe Lieder\, Webern: Drei kleine Stücke op. 11\, Zwei Stücke & Variationen op. 27\, Schönberg: Verklärte Nacht op. 4 \nhttps://www.concerti.de/termine/sophie-naubert-sopran-carlos-johnson-violine-joo-hyun-kang-violine-christian-jonkisch-viola-eunsoo-na-viola-hans-christian-schwarz-violoncello-semin-jeon-violoncello-youngho-park-893869/
LOCATION:Haus Eden\, Lübeck
END:VEVENT
END:VCALENDAR