BEGIN:VCALENDAR
VERSION:2.0
PRODID:concerti//https://www.concerti.de
CALSCALE:GREGORIAN
BEGIN:VTIMEZONE
TZID:Europe/Berlin
X-LIC-LOCATION:Europe/Berlin
BEGIN:DAYLIGHT
TZOFFSETFROM:+0100
TZOFFSETTO:+0200
TZNAME:CEST
DTSTART:19700329T020000
RRULE:FREQ=YEARLY;BYMONTH=3;BYDAY=-1SU
END:DAYLIGHT
BEGIN:STANDARD
TZOFFSETFROM:+0200
TZOFFSETTO:+0100
TZNAME:CET
DTSTART:19701025T030000
RRULE:FREQ=YEARLY;BYMONTH=10;BYDAY=-1SU
END:STANDARD
END:VTIMEZONE
BEGIN:VEVENT
UID:c47acc90d9c2eda00632ef61e6af8415
SUMMARY:Asiia Garipova (Violine), Klaudio Zoto (Violoncello) - Kammerkonzerte der Oscar und Vera Ritter-Stiftung
URL:https://www.concerti.de/termine/asiia-garipova-violine-klaudio-zoto-violoncello-893888/
DTSTART;TZID=Europe/Berlin:20260908T193000
DTEND;TZID=Europe/Berlin:20260908T213000
DESCRIPTION:Interpreten: Asiia Garipova (Violine)\, Klaudio Zoto (Violoncello) \nhttps://www.concerti.de/termine/asiia-garipova-violine-klaudio-zoto-violoncello-893888/
LOCATION:Miralles Saal\, Hamburg
END:VEVENT
END:VCALENDAR