BEGIN:VCALENDAR
VERSION:2.0
PRODID:concerti//https://www.concerti.de
CALSCALE:GREGORIAN
BEGIN:VTIMEZONE
TZID:Europe/Berlin
X-LIC-LOCATION:Europe/Berlin
BEGIN:DAYLIGHT
TZOFFSETFROM:+0100
TZOFFSETTO:+0200
TZNAME:CEST
DTSTART:19700329T020000
RRULE:FREQ=YEARLY;BYMONTH=3;BYDAY=-1SU
END:DAYLIGHT
BEGIN:STANDARD
TZOFFSETFROM:+0200
TZOFFSETTO:+0100
TZNAME:CET
DTSTART:19701025T030000
RRULE:FREQ=YEARLY;BYMONTH=10;BYDAY=-1SU
END:STANDARD
END:VTIMEZONE
BEGIN:VEVENT
UID:6641e02819527160a7eafae5c9efa1d1
SUMMARY:Helena Poczykowska (Alt), Peter Holtslag (Flöte), Carsten Lohff (Cembalo) - Tage Alter Musik Medingen: Eröffnungskonzert
URL:https://www.concerti.de/termine/helena-poczykowska-alt-peter-holtslag-floete-carsten-lohff-cembalo-894014/
DTSTART;TZID=Europe/Berlin:20260606T170000
DTEND;TZID=Europe/Berlin:20260606T190000
DESCRIPTION:Interpreten: Helena Poczykowska (Alt)\, Peter Holtslag (Flöte)\, Carsten Lohff (Cembalo) \nhttps://www.concerti.de/termine/helena-poczykowska-alt-peter-holtslag-floete-carsten-lohff-cembalo-894014/
LOCATION:Kloster Medingen\, Bad Bevensen
END:VEVENT
END:VCALENDAR