BEGIN:VCALENDAR
VERSION:2.0
PRODID:concerti//https://www.concerti.de
CALSCALE:GREGORIAN
BEGIN:VTIMEZONE
TZID:Europe/Berlin
X-LIC-LOCATION:Europe/Berlin
BEGIN:DAYLIGHT
TZOFFSETFROM:+0100
TZOFFSETTO:+0200
TZNAME:CEST
DTSTART:19700329T020000
RRULE:FREQ=YEARLY;BYMONTH=3;BYDAY=-1SU
END:DAYLIGHT
BEGIN:STANDARD
TZOFFSETFROM:+0200
TZOFFSETTO:+0100
TZNAME:CET
DTSTART:19701025T030000
RRULE:FREQ=YEARLY;BYMONTH=10;BYDAY=-1SU
END:STANDARD
END:VTIMEZONE
BEGIN:VEVENT
UID:5a31e00e2782bb1e9246c2fdfcdef192
SUMMARY:Abgekupfert: Lieder und Arien aus dem Italien und Deutschland des 17. Jahunderts - Tage Alter Musik Medingen
URL:https://www.concerti.de/termine/abgekupfert-lieder-und-arien-aus-dem-italien-und-deutschland-des-17-jahunderts-894029/
DTSTART;TZID=Europe/Berlin:20260619T160000
DTEND;TZID=Europe/Berlin:20260619T180000
DESCRIPTION:Interpreten: Jeroen Finke (Gesang)\, Tobias Thietze (Theorbe) \nhttps://www.concerti.de/termine/abgekupfert-lieder-und-arien-aus-dem-italien-und-deutschland-des-17-jahunderts-894029/
LOCATION:Kloster Medingen\, Bad Bevensen
END:VEVENT
END:VCALENDAR