BEGIN:VCALENDAR
VERSION:2.0
PRODID:concerti//https://www.concerti.de
CALSCALE:GREGORIAN
BEGIN:VTIMEZONE
TZID:Europe/Berlin
X-LIC-LOCATION:Europe/Berlin
BEGIN:DAYLIGHT
TZOFFSETFROM:+0100
TZOFFSETTO:+0200
TZNAME:CEST
DTSTART:19700329T020000
RRULE:FREQ=YEARLY;BYMONTH=3;BYDAY=-1SU
END:DAYLIGHT
BEGIN:STANDARD
TZOFFSETFROM:+0200
TZOFFSETTO:+0100
TZNAME:CET
DTSTART:19701025T030000
RRULE:FREQ=YEARLY;BYMONTH=10;BYDAY=-1SU
END:STANDARD
END:VTIMEZONE
BEGIN:VEVENT
UID:3295830579d031e47a0c82742b2823de
SUMMARY:Klingende Luft - Tage Alter Musik Medingen
URL:https://www.concerti.de/termine/klingende-luft-894038/
DTSTART;TZID=Europe/Berlin:20260620T170000
DTEND;TZID=Europe/Berlin:20260620T190000
DESCRIPTION:Interpreten: Antje Knobloch (Leitung)\, Karin Knobloch (Leitung) \nhttps://www.concerti.de/termine/klingende-luft-894038/
LOCATION:Kloster Medingen\, Bad Bevensen
END:VEVENT
END:VCALENDAR