BEGIN:VCALENDAR
VERSION:2.0
PRODID:concerti//https://www.concerti.de
CALSCALE:GREGORIAN
BEGIN:VTIMEZONE
TZID:Europe/Berlin
X-LIC-LOCATION:Europe/Berlin
BEGIN:DAYLIGHT
TZOFFSETFROM:+0100
TZOFFSETTO:+0200
TZNAME:CEST
DTSTART:19700329T020000
RRULE:FREQ=YEARLY;BYMONTH=3;BYDAY=-1SU
END:DAYLIGHT
BEGIN:STANDARD
TZOFFSETFROM:+0200
TZOFFSETTO:+0100
TZNAME:CET
DTSTART:19701025T030000
RRULE:FREQ=YEARLY;BYMONTH=10;BYDAY=-1SU
END:STANDARD
END:VTIMEZONE
BEGIN:VEVENT
UID:847f5a1c5b4a28bbe15a532996491e5a
SUMMARY:La Gran Diversión - Musikfest Bremen: Eine große Nachtmusik
URL:https://www.concerti.de/termine/la-gran-diversion-894092/
DTSTART;TZID=Europe/Berlin:20260815T190000
DTEND;TZID=Europe/Berlin:20260815T210000
DESCRIPTION:Interpreten: Roberto Fonseca Group \nhttps://www.concerti.de/termine/la-gran-diversion-894092/
LOCATION:Landgericht\, Bremen
END:VEVENT
END:VCALENDAR