BEGIN:VCALENDAR
VERSION:2.0
PRODID:concerti//https://www.concerti.de
CALSCALE:GREGORIAN
BEGIN:VTIMEZONE
TZID:Europe/Berlin
X-LIC-LOCATION:Europe/Berlin
BEGIN:DAYLIGHT
TZOFFSETFROM:+0100
TZOFFSETTO:+0200
TZNAME:CEST
DTSTART:19700329T020000
RRULE:FREQ=YEARLY;BYMONTH=3;BYDAY=-1SU
END:DAYLIGHT
BEGIN:STANDARD
TZOFFSETFROM:+0200
TZOFFSETTO:+0100
TZNAME:CET
DTSTART:19701025T030000
RRULE:FREQ=YEARLY;BYMONTH=10;BYDAY=-1SU
END:STANDARD
END:VTIMEZONE
BEGIN:VEVENT
UID:24de2b2818de75a89a18313597c7b4a2
SUMMARY:Vsevolod Zavidov (Klavier) - Musikfest Bremen: Eine große Nachtmusik
URL:https://www.concerti.de/termine/vsevolod-zavidov-klavier-894106/
DTSTART;TZID=Europe/Berlin:20260815T220000
DTEND;TZID=Europe/Berlin:20260816T000000
DESCRIPTION:Interpreten: Vsevolod Zavidov (Klavier) \nProgramm: Rachmaninow/J. S. Bach: Prélude\, Gavotte und Gigue BWV 1006\, Schubert: Impromptus Ges-Dur & As-Dur D 899\, Strawinsky: Trois Mouvements de Pétrouchka \nhttps://www.concerti.de/termine/vsevolod-zavidov-klavier-894106/
LOCATION:Haus Schütting\, Bremen
END:VEVENT
END:VCALENDAR