BEGIN:VCALENDAR
VERSION:2.0
PRODID:concerti//https://www.concerti.de
CALSCALE:GREGORIAN
BEGIN:VTIMEZONE
TZID:Europe/Berlin
X-LIC-LOCATION:Europe/Berlin
BEGIN:DAYLIGHT
TZOFFSETFROM:+0100
TZOFFSETTO:+0200
TZNAME:CEST
DTSTART:19700329T020000
RRULE:FREQ=YEARLY;BYMONTH=3;BYDAY=-1SU
END:DAYLIGHT
BEGIN:STANDARD
TZOFFSETFROM:+0200
TZOFFSETTO:+0100
TZNAME:CET
DTSTART:19701025T030000
RRULE:FREQ=YEARLY;BYMONTH=10;BYDAY=-1SU
END:STANDARD
END:VTIMEZONE
BEGIN:VEVENT
UID:eeb319fb0a0164b538c60bb574111b31
SUMMARY:Mozart y Mambo - Musikfest Bremen
URL:https://www.concerti.de/termine/mozart-y-mambo-894118/
DTSTART;TZID=Europe/Berlin:20260816T193000
DTEND;TZID=Europe/Berlin:20260816T213000
DESCRIPTION:Interpreten: Sarah Willis (Horn)\, Havana Lyceum Orchestra\, José Antonio Mendéz Padrón (Leitung) \nProgramm: Mozart: Serenade Nr. 6 D-Dur KV 239\, Hornkonzert Nr. 3 Es-Dur KV 447\, Bizet/Olivero: Carmen La Cubana-Suite\, Oliva: Suite Danzotas\, Fernández: Guantanamera u. a \nhttps://www.concerti.de/termine/mozart-y-mambo-894118/
LOCATION:Stadthalle\, Cloppenburg
END:VEVENT
END:VCALENDAR