BEGIN:VCALENDAR
VERSION:2.0
PRODID:concerti//https://www.concerti.de
CALSCALE:GREGORIAN
BEGIN:VTIMEZONE
TZID:Europe/Berlin
X-LIC-LOCATION:Europe/Berlin
BEGIN:DAYLIGHT
TZOFFSETFROM:+0100
TZOFFSETTO:+0200
TZNAME:CEST
DTSTART:19700329T020000
RRULE:FREQ=YEARLY;BYMONTH=3;BYDAY=-1SU
END:DAYLIGHT
BEGIN:STANDARD
TZOFFSETFROM:+0200
TZOFFSETTO:+0100
TZNAME:CET
DTSTART:19701025T030000
RRULE:FREQ=YEARLY;BYMONTH=10;BYDAY=-1SU
END:STANDARD
END:VTIMEZONE
BEGIN:VEVENT
UID:f9545d0bbc228bd81e67ce9fb4ebd038
SUMMARY:Musikalischer Wettstreit - Musikfest Bremen
URL:https://www.concerti.de/termine/musikalischer-wettstreit-894138/
DTSTART;TZID=Europe/Berlin:20260819T193000
DTEND;TZID=Europe/Berlin:20260819T213000
DESCRIPTION:Interpreten: Verità Baroque \nProgramm: Vivaldi: Konzerte D-Dur op. 12/3\, d-Moll op. 3/11\, g-Moll op. 10/2 RV 439\, Telemann: Konzert A-Dur TWV 53:A2\, Corelli: Concerto grosso D-Dur op. 6/4\, Hanke: Starfish Rebellion \nhttps://www.concerti.de/termine/musikalischer-wettstreit-894138/
LOCATION:St. Willehadi\, Osterholz-Scharmbeck
END:VEVENT
END:VCALENDAR