BEGIN:VCALENDAR
VERSION:2.0
PRODID:concerti//https://www.concerti.de
CALSCALE:GREGORIAN
BEGIN:VTIMEZONE
TZID:Europe/Berlin
X-LIC-LOCATION:Europe/Berlin
BEGIN:DAYLIGHT
TZOFFSETFROM:+0100
TZOFFSETTO:+0200
TZNAME:CEST
DTSTART:19700329T020000
RRULE:FREQ=YEARLY;BYMONTH=3;BYDAY=-1SU
END:DAYLIGHT
BEGIN:STANDARD
TZOFFSETFROM:+0200
TZOFFSETTO:+0100
TZNAME:CET
DTSTART:19701025T030000
RRULE:FREQ=YEARLY;BYMONTH=10;BYDAY=-1SU
END:STANDARD
END:VTIMEZONE
BEGIN:VEVENT
UID:91968364499661f429de08f739fa89b3
SUMMARY:Stefanie Leipertz (Saxofon), Faraz Forouzandeh (Klavier)
URL:https://www.concerti.de/termine/stefanie-leipertz-saxofon-faraz-forouzandeh-klavier-894149/
DTSTART;TZID=Europe/Berlin:20260926T160000
DTEND;TZID=Europe/Berlin:20260926T180000
DESCRIPTION:Interpreten: Stefanie Leipertz (Saxofon)\, Faraz Forouzandeh (Klavier) \nProgramm: Bach: Cellosuite Nr. 1 G-Dur BWV 1007\, Debussy: Rhapsodie\, Ibert: Histoires (Auszüge)\, Rachmaninow: Vocalise op. 34/14\, Demersseman: Fantaisie sur un thème original \nhttps://www.concerti.de/termine/stefanie-leipertz-saxofon-faraz-forouzandeh-klavier-894149/
LOCATION:Altes Kurhaus Dangast\, Bad Zwischenahn
END:VEVENT
END:VCALENDAR