BEGIN:VCALENDAR
VERSION:2.0
PRODID:concerti//https://www.concerti.de
CALSCALE:GREGORIAN
BEGIN:VTIMEZONE
TZID:Europe/Berlin
X-LIC-LOCATION:Europe/Berlin
BEGIN:DAYLIGHT
TZOFFSETFROM:+0100
TZOFFSETTO:+0200
TZNAME:CEST
DTSTART:19700329T020000
RRULE:FREQ=YEARLY;BYMONTH=3;BYDAY=-1SU
END:DAYLIGHT
BEGIN:STANDARD
TZOFFSETFROM:+0200
TZOFFSETTO:+0100
TZNAME:CET
DTSTART:19701025T030000
RRULE:FREQ=YEARLY;BYMONTH=10;BYDAY=-1SU
END:STANDARD
END:VTIMEZONE
BEGIN:VEVENT
UID:0adba3dece1d904af1af318104038ed2
SUMMARY:Eröffnungskonzert - Bachfest Leipzig
URL:https://www.concerti.de/termine/eroeffnungskonzert-thomaskirche-leipzig-894218/
DTSTART;TZID=Europe/Berlin:20260611T170000
DTEND;TZID=Europe/Berlin:20260611T190000
DESCRIPTION:Interpreten: Marie Luise Werneburg (Sopran)\, Patricia Nolz (Sopran)\, Lucile Richardot (Alt)\, Nick Pritchard (Tenor)\, Robert Pohlers (Tenor)\, Volker Arndt (Tenor)\, Frederick Long (Bass)\, Johannes Lang (Orgel)\, Thomanerchor Leipzig\, Gewandhausorchester Leipzig\, Andreas Reize (Leitung) \nProgramm: Werke von J. S. Bach\, Händel\, Monteverdi\, Liszt\, Lasso u. a. \nhttps://www.concerti.de/termine/eroeffnungskonzert-thomaskirche-leipzig-894218/
LOCATION:Thomaskirche Leipzig\, Thomaskirchhof 18\, 04109 Leipzig
END:VEVENT
END:VCALENDAR