BEGIN:VCALENDAR
VERSION:2.0
PRODID:concerti//https://www.concerti.de
CALSCALE:GREGORIAN
BEGIN:VTIMEZONE
TZID:Europe/Berlin
X-LIC-LOCATION:Europe/Berlin
BEGIN:DAYLIGHT
TZOFFSETFROM:+0100
TZOFFSETTO:+0200
TZNAME:CEST
DTSTART:19700329T020000
RRULE:FREQ=YEARLY;BYMONTH=3;BYDAY=-1SU
END:DAYLIGHT
BEGIN:STANDARD
TZOFFSETFROM:+0200
TZOFFSETTO:+0100
TZNAME:CET
DTSTART:19701025T030000
RRULE:FREQ=YEARLY;BYMONTH=10;BYDAY=-1SU
END:STANDARD
END:VTIMEZONE
BEGIN:VEVENT
UID:79b80a8fcbe02857ac95666e1ad49f62
SUMMARY:Marie-Sophie Pollak (Sopran), Concerto Köln, Max Volbers (Blockflöte, Cembalo &#038; Leitung), Michael Maul (Moderation) - Bachfest Leipzig
URL:https://www.concerti.de/termine/marie-sophie-pollak-sopran-concerto-koeln-max-volbers-blockfloete-cembalo-leitung-michael-maul-moderation-paulinum-aula-und-universitaetskirche-st-pauli-894234/
DTSTART;TZID=Europe/Berlin:20260612T170000
DTEND;TZID=Europe/Berlin:20260612T190000
DESCRIPTION:Interpreten: Marie-Sophie Pollak (Sopran)\, Concerto Köln\, Max Volbers (Blockflöte\, Cembalo & Leitung)\, Michael Maul (Moderation) \nProgramm: Werke von J. S. Bach & J. A. Scheibe \nhttps://www.concerti.de/termine/marie-sophie-pollak-sopran-concerto-koeln-max-volbers-blockfloete-cembalo-leitung-michael-maul-moderation-paulinum-aula-und-universitaetskirche-st-pauli-894234/
LOCATION:Paulinum – Aula und Universitätskirche St. Pauli\, Augustusplatz\, 04109 Leipzig
END:VEVENT
END:VCALENDAR