BEGIN:VCALENDAR
VERSION:2.0
PRODID:concerti//https://www.concerti.de
CALSCALE:GREGORIAN
BEGIN:VTIMEZONE
TZID:Europe/Berlin
X-LIC-LOCATION:Europe/Berlin
BEGIN:DAYLIGHT
TZOFFSETFROM:+0100
TZOFFSETTO:+0200
TZNAME:CEST
DTSTART:19700329T020000
RRULE:FREQ=YEARLY;BYMONTH=3;BYDAY=-1SU
END:DAYLIGHT
BEGIN:STANDARD
TZOFFSETFROM:+0200
TZOFFSETTO:+0100
TZNAME:CET
DTSTART:19701025T030000
RRULE:FREQ=YEARLY;BYMONTH=10;BYDAY=-1SU
END:STANDARD
END:VTIMEZONE
BEGIN:VEVENT
UID:cd5a1e583cab8b32e45d26156a211735
SUMMARY:Seda Amir-Karayan (Alt), Tobias Hunger (Tenor), Henryk Böhm (Bass), Alena Hartmann (Orgel),Marc-Aurel Siemon (Orgel), BachChor Tübingen, Pauliner Barockensemble, Ingo Bredenbach (Leitung) - Bachfest Leipzig
URL:https://www.concerti.de/termine/seda-amir-karayan-alt-tobias-hunger-tenor-henryk-boehm-bass-alena-hartmann-orgelmarc-aurel-siemon-orgel-bachchor-tuebingen-pauliner-barockensemble-ingo-bredenbach-leitung-894251/
DTSTART;TZID=Europe/Berlin:20260613T093000
DTEND;TZID=Europe/Berlin:20260613T113000
DESCRIPTION:Interpreten: Seda Amir-Karayan (Alt)\, Tobias Hunger (Tenor)\, Henryk Böhm (Bass)\, Alena Hartmann (Orgel)\,Marc-Aurel Siemon (Orgel)\, BachChor Tübingen\, Pauliner Barockensemble\, Ingo Bredenbach (Leitung) \nProgramm: Brand: Voce mea ad Dominum clamavi\, Mendelssohn:  Jauchzet dem Herrn alle Welt op. 69/2\, Rathbone: Rejoice in the Lord alway\, J. S. Bach: Herr\, deine Augen sehen nach dem Glauben BWV 102 \nhttps://www.concerti.de/termine/seda-amir-karayan-alt-tobias-hunger-tenor-henryk-boehm-bass-alena-hartmann-orgelmarc-aurel-siemon-orgel-bachchor-tuebingen-pauliner-barockensemble-ingo-bredenbach-leitung-894251/
LOCATION:Evangelisch Reformierte Kirche\, Leipzig
END:VEVENT
END:VCALENDAR