BEGIN:VCALENDAR
VERSION:2.0
PRODID:concerti//https://www.concerti.de
CALSCALE:GREGORIAN
BEGIN:VTIMEZONE
TZID:Europe/Berlin
X-LIC-LOCATION:Europe/Berlin
BEGIN:DAYLIGHT
TZOFFSETFROM:+0100
TZOFFSETTO:+0200
TZNAME:CEST
DTSTART:19700329T020000
RRULE:FREQ=YEARLY;BYMONTH=3;BYDAY=-1SU
END:DAYLIGHT
BEGIN:STANDARD
TZOFFSETFROM:+0200
TZOFFSETTO:+0100
TZNAME:CET
DTSTART:19701025T030000
RRULE:FREQ=YEARLY;BYMONTH=10;BYDAY=-1SU
END:STANDARD
END:VTIMEZONE
BEGIN:VEVENT
UID:1079bacf0810b176464173c65ba4e367
SUMMARY:Viola Blache (Sopran), Sophia Faltas (Alt), Raphael Höhn (Tenor), Florian Sievers (Tenor), Sebastian Myrus (Bass), Felix Schwandtke (Bass), Vox Luminis, Lionel Meunier (Leitung) - Bachfest Leipzig: Top 50 Bach Cantatas
URL:https://www.concerti.de/termine/viola-blache-sopran-sophia-faltas-alt-raphael-hoehn-tenor-florian-sievers-tenor-sebastian-myrus-bass-felix-schwandtke-bass-vox-luminis-lionel-meunier-leitung-894257/
DTSTART;TZID=Europe/Berlin:20260613T130000
DTEND;TZID=Europe/Berlin:20260613T150000
DESCRIPTION:Interpreten: Viola Blache (Sopran)\, Sophia Faltas (Alt)\, Raphael Höhn (Tenor)\, Florian Sievers (Tenor)\, Sebastian Myrus (Bass)\, Felix Schwandtke (Bass)\, Vox Luminis\, Lionel Meunier (Leitung) \nProgramm: Werke von J. S. Bach \nhttps://www.concerti.de/termine/viola-blache-sopran-sophia-faltas-alt-raphael-hoehn-tenor-florian-sievers-tenor-sebastian-myrus-bass-felix-schwandtke-bass-vox-luminis-lionel-meunier-leitung-894257/
LOCATION:Nikolaikirche\, Leipzig
END:VEVENT
END:VCALENDAR