BEGIN:VCALENDAR
VERSION:2.0
PRODID:concerti//https://www.concerti.de
CALSCALE:GREGORIAN
BEGIN:VTIMEZONE
TZID:Europe/Berlin
X-LIC-LOCATION:Europe/Berlin
BEGIN:DAYLIGHT
TZOFFSETFROM:+0100
TZOFFSETTO:+0200
TZNAME:CEST
DTSTART:19700329T020000
RRULE:FREQ=YEARLY;BYMONTH=3;BYDAY=-1SU
END:DAYLIGHT
BEGIN:STANDARD
TZOFFSETFROM:+0200
TZOFFSETTO:+0100
TZNAME:CET
DTSTART:19701025T030000
RRULE:FREQ=YEARLY;BYMONTH=10;BYDAY=-1SU
END:STANDARD
END:VTIMEZONE
BEGIN:VEVENT
UID:87b8be319b4f44e3b55c4f0bc2ba6c94
SUMMARY:Halvor F. Melien (Bariton), Jonathan Pia (Trompete), Anton Steck (Violine), Concerto de’ Cavalieri, HT Classical Baroque Soloists, Marcello Di Lisa (Leitung) - Bachfest Leipzig
URL:https://www.concerti.de/termine/halvor-f-melien-bariton-jonathan-pia-trompete-anton-steck-violine-concerto-de-cavalieri-ht-classical-baroque-soloists-marcello-di-lisa-leitung-894266/
DTSTART;TZID=Europe/Berlin:20260613T180000
DTEND;TZID=Europe/Berlin:20260613T200000
DESCRIPTION:Interpreten: Halvor F. Melien (Bariton)\, Jonathan Pia (Trompete)\, Anton Steck (Violine)\, Concerto de’ Cavalieri\, HT Classical Baroque Soloists\, Marcello Di Lisa (Leitung) \nProgramm: Werke von Vivaldi\, J. S. Bach & Corelli \nhttps://www.concerti.de/termine/halvor-f-melien-bariton-jonathan-pia-trompete-anton-steck-violine-concerto-de-cavalieri-ht-classical-baroque-soloists-marcello-di-lisa-leitung-894266/
LOCATION:Markt\, Leipzig
END:VEVENT
END:VCALENDAR