BEGIN:VCALENDAR
VERSION:2.0
PRODID:concerti//https://www.concerti.de
CALSCALE:GREGORIAN
BEGIN:VTIMEZONE
TZID:Europe/Berlin
X-LIC-LOCATION:Europe/Berlin
BEGIN:DAYLIGHT
TZOFFSETFROM:+0100
TZOFFSETTO:+0200
TZNAME:CEST
DTSTART:19700329T020000
RRULE:FREQ=YEARLY;BYMONTH=3;BYDAY=-1SU
END:DAYLIGHT
BEGIN:STANDARD
TZOFFSETFROM:+0200
TZOFFSETTO:+0100
TZNAME:CET
DTSTART:19701025T030000
RRULE:FREQ=YEARLY;BYMONTH=10;BYDAY=-1SU
END:STANDARD
END:VTIMEZONE
BEGIN:VEVENT
UID:cda6727f4271076c25a67f049f07ce2d
SUMMARY:Bach Reimagined - Bachfest Leipzig
URL:https://www.concerti.de/termine/bach-reimagined-894272/
DTSTART;TZID=Europe/Berlin:20260613T194500
DTEND;TZID=Europe/Berlin:20260613T214500
DESCRIPTION:Interpreten: Jordan Rudess (piano) \nhttps://www.concerti.de/termine/bach-reimagined-894272/
LOCATION:Markt\, Leipzig
END:VEVENT
END:VCALENDAR