BEGIN:VCALENDAR
VERSION:2.0
PRODID:concerti//https://www.concerti.de
CALSCALE:GREGORIAN
BEGIN:VTIMEZONE
TZID:Europe/Berlin
X-LIC-LOCATION:Europe/Berlin
BEGIN:DAYLIGHT
TZOFFSETFROM:+0100
TZOFFSETTO:+0200
TZNAME:CEST
DTSTART:19700329T020000
RRULE:FREQ=YEARLY;BYMONTH=3;BYDAY=-1SU
END:DAYLIGHT
BEGIN:STANDARD
TZOFFSETFROM:+0200
TZOFFSETTO:+0100
TZNAME:CET
DTSTART:19701025T030000
RRULE:FREQ=YEARLY;BYMONTH=10;BYDAY=-1SU
END:STANDARD
END:VTIMEZONE
BEGIN:VEVENT
UID:d81079f8b571ae77113b4bbccc6e4d4b
SUMMARY:Grace Davidson (Sopran), Alex Potter (Altus), Guy Cutting (Tenor), Johannes Kammler (Bass), Collegium Vocale Gent, Philippe Herreweghe (Leitung) - Bachfest Leipzig: Top 50 Bach Cantatas
URL:https://www.concerti.de/termine/grace-davidson-sopran-alex-potter-altus-guy-cutting-tenor-johannes-kammler-bass-collegium-vocale-gent-philippe-herreweghe-leitung-thomaskirche-leipzig-894275/
DTSTART;TZID=Europe/Berlin:20260613T200000
DTEND;TZID=Europe/Berlin:20260613T220000
DESCRIPTION:Interpreten: Grace Davidson (Sopran)\, Alex Potter (Altus)\, Guy Cutting (Tenor)\, Johannes Kammler (Bass)\, Collegium Vocale Gent\, Philippe Herreweghe (Leitung) \nProgramm: Werke von J. S. Bach \nhttps://www.concerti.de/termine/grace-davidson-sopran-alex-potter-altus-guy-cutting-tenor-johannes-kammler-bass-collegium-vocale-gent-philippe-herreweghe-leitung-thomaskirche-leipzig-894275/
LOCATION:Thomaskirche Leipzig\, Thomaskirchhof 18\, 04109 Leipzig
END:VEVENT
END:VCALENDAR