BEGIN:VCALENDAR
VERSION:2.0
PRODID:concerti//https://www.concerti.de
CALSCALE:GREGORIAN
BEGIN:VTIMEZONE
TZID:Europe/Berlin
X-LIC-LOCATION:Europe/Berlin
BEGIN:DAYLIGHT
TZOFFSETFROM:+0100
TZOFFSETTO:+0200
TZNAME:CEST
DTSTART:19700329T020000
RRULE:FREQ=YEARLY;BYMONTH=3;BYDAY=-1SU
END:DAYLIGHT
BEGIN:STANDARD
TZOFFSETFROM:+0200
TZOFFSETTO:+0100
TZNAME:CET
DTSTART:19701025T030000
RRULE:FREQ=YEARLY;BYMONTH=10;BYDAY=-1SU
END:STANDARD
END:VTIMEZONE
BEGIN:VEVENT
UID:b53aec5cb3f877fa66894177082aefc4
SUMMARY:Voces8 - Bachfest Leipzig
URL:https://www.concerti.de/termine/voces8-894281/
DTSTART;TZID=Europe/Berlin:20260613T223000
DTEND;TZID=Europe/Berlin:20260614T003000
DESCRIPTION:Interpreten: Voces8 \nProgramm: J. S. Bach: Lobet den Herrn\, alle Heiden BWV 230\, Jesu\, meine Freude BWV 227\, Komm\, Jesu\, komm BWV 229 & Der Geist hilft unser Schwachheit auf BWV 226 \nhttps://www.concerti.de/termine/voces8-894281/
LOCATION:Nikolaikirche\, Leipzig
END:VEVENT
END:VCALENDAR