BEGIN:VCALENDAR
VERSION:2.0
PRODID:concerti//https://www.concerti.de
CALSCALE:GREGORIAN
BEGIN:VTIMEZONE
TZID:Europe/Berlin
X-LIC-LOCATION:Europe/Berlin
BEGIN:DAYLIGHT
TZOFFSETFROM:+0100
TZOFFSETTO:+0200
TZNAME:CEST
DTSTART:19700329T020000
RRULE:FREQ=YEARLY;BYMONTH=3;BYDAY=-1SU
END:DAYLIGHT
BEGIN:STANDARD
TZOFFSETFROM:+0200
TZOFFSETTO:+0100
TZNAME:CET
DTSTART:19701025T030000
RRULE:FREQ=YEARLY;BYMONTH=10;BYDAY=-1SU
END:STANDARD
END:VTIMEZONE
BEGIN:VEVENT
UID:9526c221edccc5544cf83d563a4f2a3a
SUMMARY:Mitglieder der Orchesterakademie bei der Staatskapelle Berlin - Bachfest Leipzig
URL:https://www.concerti.de/termine/mitglieder-der-orchesterakademie-bei-der-staatskapelle-berlin-mendelssohn-haus-894285/
DTSTART;TZID=Europe/Berlin:20260614T110000
DTEND;TZID=Europe/Berlin:20260614T130000
DESCRIPTION:Interpreten: Mitglieder der Orchesterakademie bei der Staatskapelle Berlin \nhttps://www.concerti.de/termine/mitglieder-der-orchesterakademie-bei-der-staatskapelle-berlin-mendelssohn-haus-894285/
LOCATION:Mendelssohn-Haus\, Goldschmidtstr. 12\, 04103 Leipzig
END:VEVENT
END:VCALENDAR