BEGIN:VCALENDAR
VERSION:2.0
PRODID:concerti//https://www.concerti.de
CALSCALE:GREGORIAN
BEGIN:VTIMEZONE
TZID:Europe/Berlin
X-LIC-LOCATION:Europe/Berlin
BEGIN:DAYLIGHT
TZOFFSETFROM:+0100
TZOFFSETTO:+0200
TZNAME:CEST
DTSTART:19700329T020000
RRULE:FREQ=YEARLY;BYMONTH=3;BYDAY=-1SU
END:DAYLIGHT
BEGIN:STANDARD
TZOFFSETFROM:+0200
TZOFFSETTO:+0100
TZNAME:CET
DTSTART:19701025T030000
RRULE:FREQ=YEARLY;BYMONTH=10;BYDAY=-1SU
END:STANDARD
END:VTIMEZONE
BEGIN:VEVENT
UID:255e320622451dd6ee5cd1e3c78e9234
SUMMARY:Semion Gurevich (Violine), Agnieszka Skorupa (Cembalo), Duo Agion - Bachfest Leipzig
URL:https://www.concerti.de/termine/semion-gurevich-violine-agnieszka-skorupa-cembalo-duo-agion-894288/
DTSTART;TZID=Europe/Berlin:20260614T113000
DTEND;TZID=Europe/Berlin:20260614T133000
DESCRIPTION:Interpreten: Semion Gurevich (Violine)\, Agnieszka Skorupa (Cembalo)\, Duo Agion \nProgramm: Albinoni: Sonate a-Moll op. 6/6\, J. S. Bach: Sonaten G-Dur BWV 1021\, c-Moll BWV 1017 & Italienisches Konzert F-Dur BWV 971\, Vivaldi: Sonate C-Dur \nhttps://www.concerti.de/termine/semion-gurevich-violine-agnieszka-skorupa-cembalo-duo-agion-894288/
LOCATION:Alte Börse\, Leipzig
END:VEVENT
END:VCALENDAR