BEGIN:VCALENDAR
VERSION:2.0
PRODID:concerti//https://www.concerti.de
CALSCALE:GREGORIAN
BEGIN:VTIMEZONE
TZID:Europe/Berlin
X-LIC-LOCATION:Europe/Berlin
BEGIN:DAYLIGHT
TZOFFSETFROM:+0100
TZOFFSETTO:+0200
TZNAME:CEST
DTSTART:19700329T020000
RRULE:FREQ=YEARLY;BYMONTH=3;BYDAY=-1SU
END:DAYLIGHT
BEGIN:STANDARD
TZOFFSETFROM:+0200
TZOFFSETTO:+0100
TZNAME:CET
DTSTART:19701025T030000
RRULE:FREQ=YEARLY;BYMONTH=10;BYDAY=-1SU
END:STANDARD
END:VTIMEZONE
BEGIN:VEVENT
UID:d771f93439f728ebee22b34cff0ed841
SUMMARY:Miriam Feuersinger (Sopran), Margot Oitzinger (Alt), Daniel Johannsen (Tenor), Matthias Helm (Bass), Chor und Orchester der J. S. Bach-Stiftung, Rudolf Lutz (Leitung) - Bachfest Leipzig: Top 50 Bach Cantatas
URL:https://www.concerti.de/termine/miriam-feuersinger-sopran-margot-oitzinger-alt-daniel-johannsen-tenor-matthias-helm-bass-chor-und-orchester-der-j-s-bach-stiftung-rudolf-lutz-leitung-thomaskirche-leipzig-894231/
DTSTART;TZID=Europe/Berlin:20260614T160000
DTEND;TZID=Europe/Berlin:20260614T180000
DESCRIPTION:Interpreten: Miriam Feuersinger (Sopran)\, Margot Oitzinger (Alt)\, Daniel Johannsen (Tenor)\, Matthias Helm (Bass)\, Chor und Orchester der J. S. Bach-Stiftung\, Rudolf Lutz (Leitung) \nProgramm: Werke von J. S. Bach \nhttps://www.concerti.de/termine/miriam-feuersinger-sopran-margot-oitzinger-alt-daniel-johannsen-tenor-matthias-helm-bass-chor-und-orchester-der-j-s-bach-stiftung-rudolf-lutz-leitung-thomaskirche-leipzig-894231/
LOCATION:Thomaskirche Leipzig\, Thomaskirchhof 18\, 04109 Leipzig
END:VEVENT
END:VCALENDAR