BEGIN:VCALENDAR
VERSION:2.0
PRODID:concerti//https://www.concerti.de
CALSCALE:GREGORIAN
BEGIN:VTIMEZONE
TZID:Europe/Berlin
X-LIC-LOCATION:Europe/Berlin
BEGIN:DAYLIGHT
TZOFFSETFROM:+0100
TZOFFSETTO:+0200
TZNAME:CEST
DTSTART:19700329T020000
RRULE:FREQ=YEARLY;BYMONTH=3;BYDAY=-1SU
END:DAYLIGHT
BEGIN:STANDARD
TZOFFSETFROM:+0200
TZOFFSETTO:+0100
TZNAME:CET
DTSTART:19701025T030000
RRULE:FREQ=YEARLY;BYMONTH=10;BYDAY=-1SU
END:STANDARD
END:VTIMEZONE
BEGIN:VEVENT
UID:3fa8916ba0f88b9e1be6c557192ca7f6
SUMMARY:Bachiana - Bachfest Leipzig
URL:https://www.concerti.de/termine/bachiana-894299/
DTSTART;TZID=Europe/Berlin:20260614T190000
DTEND;TZID=Europe/Berlin:20260614T210000
DESCRIPTION:Interpreten: PJ d’Atri (E-Gitarre)\, Kurt Gold-Szklarski (Cembalo\, Akkordeon & Klavier) \nhttps://www.concerti.de/termine/bachiana-894299/
LOCATION:Markt\, Leipzig
END:VEVENT
END:VCALENDAR