BEGIN:VCALENDAR
VERSION:2.0
PRODID:concerti//https://www.concerti.de
CALSCALE:GREGORIAN
BEGIN:VTIMEZONE
TZID:Europe/Berlin
X-LIC-LOCATION:Europe/Berlin
BEGIN:DAYLIGHT
TZOFFSETFROM:+0100
TZOFFSETTO:+0200
TZNAME:CEST
DTSTART:19700329T020000
RRULE:FREQ=YEARLY;BYMONTH=3;BYDAY=-1SU
END:DAYLIGHT
BEGIN:STANDARD
TZOFFSETFROM:+0200
TZOFFSETTO:+0100
TZNAME:CET
DTSTART:19701025T030000
RRULE:FREQ=YEARLY;BYMONTH=10;BYDAY=-1SU
END:STANDARD
END:VTIMEZONE
BEGIN:VEVENT
UID:38b219a4cd5f78d71d49b768f710bc4c
SUMMARY:Andy Haderer (Trompete), Reiko Brockelt (Saxophon), Leipziger Universitätschor, Unibigband Leipzig, David Timm (Leitung) - Bachfest Leipzig
URL:https://www.concerti.de/termine/andy-haderer-trompete-reiko-brockelt-saxophon-leipziger-universitaetschor-unibigband-leipzig-david-timm-leitung-894303/
DTSTART;TZID=Europe/Berlin:20260614T210000
DTEND;TZID=Europe/Berlin:20260614T230000
DESCRIPTION:Interpreten: Andy Haderer (Trompete)\, Reiko Brockelt (Saxophon)\, Leipziger Universitätschor\, Unibigband Leipzig\, David Timm (Leitung) \nProgramm: Timm: Jazzmesse u. a. \nhttps://www.concerti.de/termine/andy-haderer-trompete-reiko-brockelt-saxophon-leipziger-universitaetschor-unibigband-leipzig-david-timm-leitung-894303/
LOCATION:Markt\, Leipzig
END:VEVENT
END:VCALENDAR