BEGIN:VCALENDAR
VERSION:2.0
PRODID:concerti//https://www.concerti.de
CALSCALE:GREGORIAN
BEGIN:VTIMEZONE
TZID:Europe/Berlin
X-LIC-LOCATION:Europe/Berlin
BEGIN:DAYLIGHT
TZOFFSETFROM:+0100
TZOFFSETTO:+0200
TZNAME:CEST
DTSTART:19700329T020000
RRULE:FREQ=YEARLY;BYMONTH=3;BYDAY=-1SU
END:DAYLIGHT
BEGIN:STANDARD
TZOFFSETFROM:+0200
TZOFFSETTO:+0100
TZNAME:CET
DTSTART:19701025T030000
RRULE:FREQ=YEARLY;BYMONTH=10;BYDAY=-1SU
END:STANDARD
END:VTIMEZONE
BEGIN:VEVENT
UID:8e063347320fda8b0bfe4e36c3bca216
SUMMARY:Tehila Nini Goldstein (Sopran), Tomáš Král (Bass), Collegium Musicum ‘23, Johannes Lang (Leitung) - Bachfest Leipzig
URL:https://www.concerti.de/termine/tehila-nini-goldstein-sopran-tomas-kral-bass-collegium-musicum-23-johannes-lang-leitung-thomaskirche-leipzig-894306/
DTSTART;TZID=Europe/Berlin:20260614T223000
DTEND;TZID=Europe/Berlin:20260615T003000
DESCRIPTION:Interpreten: Tehila Nini Goldstein (Sopran)\, Tomáš Král (Bass)\, Collegium Musicum ‘23\, Johannes Lang (Leitung) \nProgramm: J. S. Bach: Liebster Jesu\, mein Verlangen BWV 32\, Ich geh und suche mit Verlangen BWV 49 & Selig ist der Mann BWV 57 \nhttps://www.concerti.de/termine/tehila-nini-goldstein-sopran-tomas-kral-bass-collegium-musicum-23-johannes-lang-leitung-thomaskirche-leipzig-894306/
LOCATION:Thomaskirche Leipzig\, Thomaskirchhof 18\, 04109 Leipzig
END:VEVENT
END:VCALENDAR