BEGIN:VCALENDAR
VERSION:2.0
PRODID:concerti//https://www.concerti.de
CALSCALE:GREGORIAN
BEGIN:VTIMEZONE
TZID:Europe/Berlin
X-LIC-LOCATION:Europe/Berlin
BEGIN:DAYLIGHT
TZOFFSETFROM:+0100
TZOFFSETTO:+0200
TZNAME:CEST
DTSTART:19700329T020000
RRULE:FREQ=YEARLY;BYMONTH=3;BYDAY=-1SU
END:DAYLIGHT
BEGIN:STANDARD
TZOFFSETFROM:+0200
TZOFFSETTO:+0100
TZNAME:CET
DTSTART:19701025T030000
RRULE:FREQ=YEARLY;BYMONTH=10;BYDAY=-1SU
END:STANDARD
END:VTIMEZONE
BEGIN:VEVENT
UID:46199d133d44055b4148d600ad809806
SUMMARY:Okawa Tan (Tenor), Chong Lim (Klavier) - Bachfest Leipzig
URL:https://www.concerti.de/termine/okawa-tan-tenor-chong-lim-klavier-894312/
DTSTART;TZID=Europe/Berlin:20260615T113000
DTEND;TZID=Europe/Berlin:20260615T133000
DESCRIPTION:Interpreten: Okawa Tan (Tenor)\, Chong Lim (Klavier) \nProgramm: Schumann: Dichterliebe op. 48 & Sechs Gedichte von N. Lenau und Requiem op. 90\, Beethoven: Sechs Lieder von Gellert op. 48\, Tee: Who Shall Separate Us from the Love of Christ \nhttps://www.concerti.de/termine/okawa-tan-tenor-chong-lim-klavier-894312/
LOCATION:Alte Börse\, Leipzig
END:VEVENT
END:VCALENDAR