BEGIN:VCALENDAR
VERSION:2.0
PRODID:concerti//https://www.concerti.de
CALSCALE:GREGORIAN
BEGIN:VTIMEZONE
TZID:Europe/Berlin
X-LIC-LOCATION:Europe/Berlin
BEGIN:DAYLIGHT
TZOFFSETFROM:+0100
TZOFFSETTO:+0200
TZNAME:CEST
DTSTART:19700329T020000
RRULE:FREQ=YEARLY;BYMONTH=3;BYDAY=-1SU
END:DAYLIGHT
BEGIN:STANDARD
TZOFFSETFROM:+0200
TZOFFSETTO:+0100
TZNAME:CET
DTSTART:19701025T030000
RRULE:FREQ=YEARLY;BYMONTH=10;BYDAY=-1SU
END:STANDARD
END:VTIMEZONE
BEGIN:VEVENT
UID:6066d99ba1ccfeccbb78ce773c1664b3
SUMMARY:Verleihung der Bach-Medaille - Bachfest Leipzig
URL:https://www.concerti.de/termine/verleihung-der-bach-medaille-paulinum-aula-und-universitaetskirche-st-pauli-894315/
DTSTART;TZID=Europe/Berlin:20260615T130000
DTEND;TZID=Europe/Berlin:20260615T150000
DESCRIPTION:Interpreten: Miriam Feuersinger (Sopran)\, Daniel Johannsen (Tenor)\, Mitglieder von Chor und Orchester der J. S. Bach-Stiftung\, Rudolf Lutz (Leitung) \nProgramm: J. S. Bach: Weichet nur\, betrübte Schatten BWV 202\, J. S. Bach/R. Lutz: Tröstet euch\, verzagte Seelen\, nach „Weichet nur\, betrübte Schatten“ BWV 202 \nhttps://www.concerti.de/termine/verleihung-der-bach-medaille-paulinum-aula-und-universitaetskirche-st-pauli-894315/
LOCATION:Paulinum – Aula und Universitätskirche St. Pauli\, Augustusplatz\, 04109 Leipzig
END:VEVENT
END:VCALENDAR