BEGIN:VCALENDAR
VERSION:2.0
PRODID:concerti//https://www.concerti.de
CALSCALE:GREGORIAN
BEGIN:VTIMEZONE
TZID:Europe/Berlin
X-LIC-LOCATION:Europe/Berlin
BEGIN:DAYLIGHT
TZOFFSETFROM:+0100
TZOFFSETTO:+0200
TZNAME:CEST
DTSTART:19700329T020000
RRULE:FREQ=YEARLY;BYMONTH=3;BYDAY=-1SU
END:DAYLIGHT
BEGIN:STANDARD
TZOFFSETFROM:+0200
TZOFFSETTO:+0100
TZNAME:CET
DTSTART:19701025T030000
RRULE:FREQ=YEARLY;BYMONTH=10;BYDAY=-1SU
END:STANDARD
END:VTIMEZONE
BEGIN:VEVENT
UID:929194cd80cbcd8a74798f231ca7e200
SUMMARY:Kristen Witmer (Sopran), Sophia Faltas (Alt), Raphael Höhn (Tenor), Sebastian Myrus (Bass), Vox Luminis, Lionel Meunier (Leitung) - Bachfest Leipzig: Top 50 Bach Cantatas
URL:https://www.concerti.de/termine/kristen-witmer-sopran-sophia-faltas-alt-raphael-hoehn-tenor-sebastian-myrus-bass-vox-luminis-lionel-meunier-leitung-thomaskirche-leipzig-894321/
DTSTART;TZID=Europe/Berlin:20260615T160000
DTEND;TZID=Europe/Berlin:20260615T180000
DESCRIPTION:Interpreten: Kristen Witmer (Sopran)\, Sophia Faltas (Alt)\, Raphael Höhn (Tenor)\, Sebastian Myrus (Bass)\, Vox Luminis\, Lionel Meunier (Leitung) \nProgramm: Werke von J. S. Bach \nhttps://www.concerti.de/termine/kristen-witmer-sopran-sophia-faltas-alt-raphael-hoehn-tenor-sebastian-myrus-bass-vox-luminis-lionel-meunier-leitung-thomaskirche-leipzig-894321/
LOCATION:Thomaskirche Leipzig\, Thomaskirchhof 18\, 04109 Leipzig
END:VEVENT
END:VCALENDAR