BEGIN:VCALENDAR
VERSION:2.0
PRODID:concerti//https://www.concerti.de
CALSCALE:GREGORIAN
BEGIN:VTIMEZONE
TZID:Europe/Berlin
X-LIC-LOCATION:Europe/Berlin
BEGIN:DAYLIGHT
TZOFFSETFROM:+0100
TZOFFSETTO:+0200
TZNAME:CEST
DTSTART:19700329T020000
RRULE:FREQ=YEARLY;BYMONTH=3;BYDAY=-1SU
END:DAYLIGHT
BEGIN:STANDARD
TZOFFSETFROM:+0200
TZOFFSETTO:+0100
TZNAME:CET
DTSTART:19701025T030000
RRULE:FREQ=YEARLY;BYMONTH=10;BYDAY=-1SU
END:STANDARD
END:VTIMEZONE
BEGIN:VEVENT
UID:28b51731c446f04c2f258c9d37cc6348
SUMMARY:Kammerchor Josquin des Préz, Clemens Flämig (Leitung) - Bachfest Leipzig
URL:https://www.concerti.de/termine/kammerchor-josquin-des-prez-clemens-flaemig-leitung-894324/
DTSTART;TZID=Europe/Berlin:20260615T170000
DTEND;TZID=Europe/Berlin:20260615T190000
DESCRIPTION:Interpreten: Kammerchor Josquin des Préz\, Clemens Flämig (Leitung) \nProgramm: J. S. Bach: Jesu\, meine Freude BWV 227\, Préz: Tu solus qui facis mirabilia · Magnus es tu\, Domine\, Christum ducem\, qui per crucem & Tu pauperum refugium \nhttps://www.concerti.de/termine/kammerchor-josquin-des-prez-clemens-flaemig-leitung-894324/
LOCATION:Nikolaikirche\, Leipzig
END:VEVENT
END:VCALENDAR