BEGIN:VCALENDAR
VERSION:2.0
PRODID:concerti//https://www.concerti.de
CALSCALE:GREGORIAN
BEGIN:VTIMEZONE
TZID:Europe/Berlin
X-LIC-LOCATION:Europe/Berlin
BEGIN:DAYLIGHT
TZOFFSETFROM:+0100
TZOFFSETTO:+0200
TZNAME:CEST
DTSTART:19700329T020000
RRULE:FREQ=YEARLY;BYMONTH=3;BYDAY=-1SU
END:DAYLIGHT
BEGIN:STANDARD
TZOFFSETFROM:+0200
TZOFFSETTO:+0100
TZNAME:CET
DTSTART:19701025T030000
RRULE:FREQ=YEARLY;BYMONTH=10;BYDAY=-1SU
END:STANDARD
END:VTIMEZONE
BEGIN:VEVENT
UID:a79ba2be0db1cc3ade040858f4b2cba8
SUMMARY:Mahan Esfahani (Clavichord) - Bachfest Leipzig
URL:https://www.concerti.de/termine/mahan-esfahani-clavichord-894327/
DTSTART;TZID=Europe/Berlin:20260615T210000
DTEND;TZID=Europe/Berlin:20260615T230000
DESCRIPTION:Interpreten: Mahan Esfahani (Clavichord) \nProgramm: Werke on Cabezón\, Froberger\, W. F. Bach\, J. S. Bach & C. P. E. Bach \nhttps://www.concerti.de/termine/mahan-esfahani-clavichord-894327/
LOCATION:Bach-Museum\, Leipzig
END:VEVENT
END:VCALENDAR