BEGIN:VCALENDAR
VERSION:2.0
PRODID:concerti//https://www.concerti.de
CALSCALE:GREGORIAN
BEGIN:VTIMEZONE
TZID:Europe/Berlin
X-LIC-LOCATION:Europe/Berlin
BEGIN:DAYLIGHT
TZOFFSETFROM:+0100
TZOFFSETTO:+0200
TZNAME:CEST
DTSTART:19700329T020000
RRULE:FREQ=YEARLY;BYMONTH=3;BYDAY=-1SU
END:DAYLIGHT
BEGIN:STANDARD
TZOFFSETFROM:+0200
TZOFFSETTO:+0100
TZNAME:CET
DTSTART:19701025T030000
RRULE:FREQ=YEARLY;BYMONTH=10;BYDAY=-1SU
END:STANDARD
END:VTIMEZONE
BEGIN:VEVENT
UID:19630e30437aac6b341f2c2435b3d3a7
SUMMARY:Susanne Langner (Alt), Leipziger Barockorchester - Bachfest Leipzig
URL:https://www.concerti.de/termine/susanne-langner-alt-leipziger-barockorchester-894340/
DTSTART;TZID=Europe/Berlin:20260616T093000
DTEND;TZID=Europe/Berlin:20260616T113000
DESCRIPTION:Interpreten: Susanne Langner (Alt)\, Leipziger Barockorchester \nProgramm: Telemann: Sonate A-Dur & Des wütenden Meeres betäubendes Tosen\, J. S. Bach: Geist und Seele wird verwirret BWV 35 \nhttps://www.concerti.de/termine/susanne-langner-alt-leipziger-barockorchester-894340/
LOCATION:Paul-Gerhardt-Kirche\, Leipzig
END:VEVENT
END:VCALENDAR