BEGIN:VCALENDAR
VERSION:2.0
PRODID:concerti//https://www.concerti.de
CALSCALE:GREGORIAN
BEGIN:VTIMEZONE
TZID:Europe/Berlin
X-LIC-LOCATION:Europe/Berlin
BEGIN:DAYLIGHT
TZOFFSETFROM:+0100
TZOFFSETTO:+0200
TZNAME:CEST
DTSTART:19700329T020000
RRULE:FREQ=YEARLY;BYMONTH=3;BYDAY=-1SU
END:DAYLIGHT
BEGIN:STANDARD
TZOFFSETFROM:+0200
TZOFFSETTO:+0100
TZNAME:CET
DTSTART:19701025T030000
RRULE:FREQ=YEARLY;BYMONTH=10;BYDAY=-1SU
END:STANDARD
END:VTIMEZONE
BEGIN:VEVENT
UID:0ce02588ed880adcdfb06540488051e9
SUMMARY:Lenneke Ruiten (Sopran), Jonathan Hanley (Tenor), Alex Ashworth (Bass), Jack Comerford (Bass), The Constellation Choir &#038; Orchestra, John Eliot Gardiner (Leitung) - Bachfest Leipzig: Top 50 Bach Cantatas
URL:https://www.concerti.de/termine/lenneke-ruiten-sopran-jonathan-hanley-tenor-alex-ashworth-bass-jack-comerford-bass-the-constellation-choir-orchestra-john-eliot-gardiner-leitung-thomaskirche-leipzig-894347/
DTSTART;TZID=Europe/Berlin:20260616T200000
DTEND;TZID=Europe/Berlin:20260616T220000
DESCRIPTION:Interpreten: Lenneke Ruiten (Sopran)\, Jonathan Hanley (Tenor)\, Alex Ashworth (Bass)\, Jack Comerford (Bass)\, The Constellation Choir & Orchestra\, John Eliot Gardiner (Leitung) \nProgramm: Werke von J. S. Bach \nhttps://www.concerti.de/termine/lenneke-ruiten-sopran-jonathan-hanley-tenor-alex-ashworth-bass-jack-comerford-bass-the-constellation-choir-orchestra-john-eliot-gardiner-leitung-thomaskirche-leipzig-894347/
LOCATION:Thomaskirche Leipzig\, Thomaskirchhof 18\, 04109 Leipzig
END:VEVENT
END:VCALENDAR