BEGIN:VCALENDAR
VERSION:2.0
PRODID:concerti//https://www.concerti.de
CALSCALE:GREGORIAN
BEGIN:VTIMEZONE
TZID:Europe/Berlin
X-LIC-LOCATION:Europe/Berlin
BEGIN:DAYLIGHT
TZOFFSETFROM:+0100
TZOFFSETTO:+0200
TZNAME:CEST
DTSTART:19700329T020000
RRULE:FREQ=YEARLY;BYMONTH=3;BYDAY=-1SU
END:DAYLIGHT
BEGIN:STANDARD
TZOFFSETFROM:+0200
TZOFFSETTO:+0100
TZNAME:CET
DTSTART:19701025T030000
RRULE:FREQ=YEARLY;BYMONTH=10;BYDAY=-1SU
END:STANDARD
END:VTIMEZONE
BEGIN:VEVENT
UID:7229f643d5970afd56b7962a7e3789a9
SUMMARY:Steffen Schleiermacher (Klavier) - Bachfest Leipzig
URL:https://www.concerti.de/termine/steffen-schleiermacher-klavier-894350/
DTSTART;TZID=Europe/Berlin:20260616T200000
DTEND;TZID=Europe/Berlin:20260616T220000
DESCRIPTION:Interpreten: Steffen Schleiermacher (Klavier) \nProgramm: Werke von Bartók\, Eisler\, Bredemeyer\, Gubaidulina\, Takemitsu u. a. \nhttps://www.concerti.de/termine/steffen-schleiermacher-klavier-894350/
LOCATION:Grassi Museum für Angewandte Kunst\, Leipzig
END:VEVENT
END:VCALENDAR