BEGIN:VCALENDAR
VERSION:2.0
PRODID:concerti//https://www.concerti.de
CALSCALE:GREGORIAN
BEGIN:VTIMEZONE
TZID:Europe/Berlin
X-LIC-LOCATION:Europe/Berlin
BEGIN:DAYLIGHT
TZOFFSETFROM:+0100
TZOFFSETTO:+0200
TZNAME:CEST
DTSTART:19700329T020000
RRULE:FREQ=YEARLY;BYMONTH=3;BYDAY=-1SU
END:DAYLIGHT
BEGIN:STANDARD
TZOFFSETFROM:+0200
TZOFFSETTO:+0100
TZNAME:CET
DTSTART:19701025T030000
RRULE:FREQ=YEARLY;BYMONTH=10;BYDAY=-1SU
END:STANDARD
END:VTIMEZONE
BEGIN:VEVENT
UID:c8db83d07126e20ef7df42428a6aa25b
SUMMARY:Frieda Jolande Barck (Sopran), Anna Sophia Backhaus (Sopran), Helene Erben (Alt), Stefan Kahle (Altus), Christopher B. Fischer (Tenor), Alexander Hemmann (Tenor), Tobias Ay (Bass), Markus Antler (Bass), Erik Dremel (Orgel), Ensemble 1684 - Bachfest Leipzig
URL:https://www.concerti.de/termine/frieda-jolande-barck-sopran-anna-sophia-backhaus-sopran-helene-erben-alt-stefan-kahle-altus-christopher-b-fischer-tenor-alexander-hemmann-tenor-tobias-ay-bass-markus-antler-bass-894358/
DTSTART;TZID=Europe/Berlin:20260617T093000
DTEND;TZID=Europe/Berlin:20260617T113000
DESCRIPTION:Interpreten: Frieda Jolande Barck (Sopran)\, Anna Sophia Backhaus (Sopran)\, Helene Erben (Alt)\, Stefan Kahle (Altus)\, Christopher B. Fischer (Tenor)\, Alexander Hemmann (Tenor)\, Tobias Ay (Bass)\, Markus Antler (Bass)\, Erik Dremel (Orgel)\, Ensemble 1684 \nProgramm: Knüpfer: Die Turteltaube lässt sich hören\, Erforsche mich\, Gott\, Wenn mein Stündlein vorhanden ist & Ach Herr\, strafe mich nicht in deinem Zorn \nhttps://www.concerti.de/termine/frieda-jolande-barck-sopran-anna-sophia-backhaus-sopran-helene-erben-alt-stefan-kahle-altus-christopher-b-fischer-tenor-alexander-hemmann-tenor-tobias-ay-bass-markus-antler-bass-894358/
LOCATION:Peterskirche Leipzig\, Schletterstraße 5\, 04107 Leipzig
END:VEVENT
END:VCALENDAR