BEGIN:VCALENDAR
VERSION:2.0
PRODID:concerti//https://www.concerti.de
CALSCALE:GREGORIAN
BEGIN:VTIMEZONE
TZID:Europe/Berlin
X-LIC-LOCATION:Europe/Berlin
BEGIN:DAYLIGHT
TZOFFSETFROM:+0100
TZOFFSETTO:+0200
TZNAME:CEST
DTSTART:19700329T020000
RRULE:FREQ=YEARLY;BYMONTH=3;BYDAY=-1SU
END:DAYLIGHT
BEGIN:STANDARD
TZOFFSETFROM:+0200
TZOFFSETTO:+0100
TZNAME:CET
DTSTART:19701025T030000
RRULE:FREQ=YEARLY;BYMONTH=10;BYDAY=-1SU
END:STANDARD
END:VTIMEZONE
BEGIN:VEVENT
UID:5e6d58e79460e404eca60b829fd2de05
SUMMARY:Jacobus Gladziwa (Orgel) - Bachfest Leipzig
URL:https://www.concerti.de/termine/jacobus-gladziwa-orgel-894361/
DTSTART;TZID=Europe/Berlin:20260617T130000
DTEND;TZID=Europe/Berlin:20260617T150000
DESCRIPTION:Interpreten: Jacobus Gladziwa (Orgel) \nProgramm: Werke von J. S. Bach & C. Schumann \nhttps://www.concerti.de/termine/jacobus-gladziwa-orgel-894361/
LOCATION:Katholische Propsteikirche\, Leipzig
END:VEVENT
END:VCALENDAR