BEGIN:VCALENDAR
VERSION:2.0
PRODID:concerti//https://www.concerti.de
CALSCALE:GREGORIAN
BEGIN:VTIMEZONE
TZID:Europe/Berlin
X-LIC-LOCATION:Europe/Berlin
BEGIN:DAYLIGHT
TZOFFSETFROM:+0100
TZOFFSETTO:+0200
TZNAME:CEST
DTSTART:19700329T020000
RRULE:FREQ=YEARLY;BYMONTH=3;BYDAY=-1SU
END:DAYLIGHT
BEGIN:STANDARD
TZOFFSETFROM:+0200
TZOFFSETTO:+0100
TZNAME:CET
DTSTART:19701025T030000
RRULE:FREQ=YEARLY;BYMONTH=10;BYDAY=-1SU
END:STANDARD
END:VTIMEZONE
BEGIN:VEVENT
UID:67a3f81bd0b371f8bbcd63a8ecb74cad
SUMMARY:Amelia Berridge (Sopran), Maarten Engeltjes (Altus), Tilman Lichdi (Tenor), Klaus Mertens (Bass), Amsterdam Baroque Orchestra &#038; Choir, Ton Koopman (Leitung) - Bachfest Leipzig: Top 50 Bach Cantatas
URL:https://www.concerti.de/termine/amelia-berridge-sopran-maarten-engeltjes-altus-tilman-lichdi-tenor-klaus-mertens-bass-amsterdam-baroque-orchestra-choir-ton-koopman-leitung-thomaskirche-leipzig-894364/
DTSTART;TZID=Europe/Berlin:20260617T160000
DTEND;TZID=Europe/Berlin:20260617T180000
DESCRIPTION:Interpreten: Amelia Berridge (Sopran)\, Maarten Engeltjes (Altus)\, Tilman Lichdi (Tenor)\, Klaus Mertens (Bass)\, Amsterdam Baroque Orchestra & Choir\, Ton Koopman (Leitung) \nProgramm: Werke von J. S. Bach \nhttps://www.concerti.de/termine/amelia-berridge-sopran-maarten-engeltjes-altus-tilman-lichdi-tenor-klaus-mertens-bass-amsterdam-baroque-orchestra-choir-ton-koopman-leitung-thomaskirche-leipzig-894364/
LOCATION:Thomaskirche Leipzig\, Thomaskirchhof 18\, 04109 Leipzig
END:VEVENT
END:VCALENDAR